BEGIN:VCALENDAR
VERSION:2.0
PRODID:-//Integral Learning Solutions - ECPv6.15.20//NONSGML v1.0//EN
CALSCALE:GREGORIAN
METHOD:PUBLISH
X-ORIGINAL-URL:https://integrallearningsolutions.com
X-WR-CALDESC:Eventos para Integral Learning Solutions
REFRESH-INTERVAL;VALUE=DURATION:PT1H
X-Robots-Tag:noindex
X-PUBLISHED-TTL:PT1H
BEGIN:VTIMEZONE
TZID:America/Puerto_Rico
BEGIN:STANDARD
TZOFFSETFROM:-0400
TZOFFSETTO:-0400
TZNAME:AST
DTSTART:20220101T000000
END:STANDARD
END:VTIMEZONE
BEGIN:VEVENT
DTSTART;TZID=America/Puerto_Rico:20230322T180000
DTEND;TZID=America/Puerto_Rico:20230322T180000
DTSTAMP:20260421T050150
CREATED:20230304T005557Z
LAST-MODIFIED:20230304T013826Z
UID:8000-1679508000-1679508000@integrallearningsolutions.com
SUMMARY:Herramientas de Coaching Educativo Aplicadas
DESCRIPTION:Curso: Herramientas de Coaching Educativo Aplicadas (12 hrs. Contacto – 1.2 CEU) \n🌟 El curso en Herramientas de Coaching Educativo Aplicadas te brindará todo lo necesario para aplicar el coaching en el contexto escolar y universitario (educación superior).  Descubrirás la forma correcta de aplicar diversidad de herramientas en tus sesiones de coaching.  Así\, cómo integrar el coaching en la comunidad escolar o institución de educación superior.  Abordaremos las variantes del coaching educativo: académico y docente.  Además\, se discutirán las competencias de la International Coaching Federation alineada a la práctica del coaching en la educación. \n🌟Modalidad: Presencial  Sincrónica Vía ZOOM \nBeneficios: \n\n\nMayor dominio de las competencias de coaching.\nDescubirarás variedad de herramientas a ser utilizada en el contexto del coaching educativo\nAdiestrameinto flexibilidad vía ZOOM\nCertificado de capacitación profesional\n\n  \n\nRegístrate para recibir mayor información.\n\n\n📆 Fecha: 22\, 23 y 30 de marzo desde las 6pm – vía ZOOM\n\n\n\nInversión: $147- Pagos Únicos con ATH Móvil (939-224-8318) o Tarjeta de Crédito en ⬇⬇⬇\nhttps://buy.stripe.com/7sI3eCgyd3Lc6Dm3dc
URL:https://integrallearningsolutions.com/evento/herramientas-de-coaching-educativo-aplicadas/
LOCATION:Virtual-ZOOM\, WhatsApp Business 939-224-8318\, PR\, Puerto Rico
CATEGORIES:Coaching
ATTACH;FMTTYPE=image/jpeg:https://integrallearningsolutions.com/wp-content/uploads/MEDIACION-2023-9.jpg
ORGANIZER;CN="Integral Learning Solutions":MAILTO:integrallearningsolutions.info@ilspr.org
END:VEVENT
END:VCALENDAR