BEGIN:VCALENDAR
VERSION:2.0
PRODID:-//Integral Learning Solutions - ECPv6.15.20//NONSGML v1.0//EN
CALSCALE:GREGORIAN
METHOD:PUBLISH
X-WR-CALNAME:Integral Learning Solutions
X-ORIGINAL-URL:https://integrallearningsolutions.com
X-WR-CALDESC:Eventos para Integral Learning Solutions
REFRESH-INTERVAL;VALUE=DURATION:PT1H
X-Robots-Tag:noindex
X-PUBLISHED-TTL:PT1H
BEGIN:VTIMEZONE
TZID:America/Puerto_Rico
BEGIN:STANDARD
TZOFFSETFROM:-0400
TZOFFSETTO:-0400
TZNAME:AST
DTSTART:20210101T000000
END:STANDARD
END:VTIMEZONE
BEGIN:VEVENT
DTSTART;TZID=America/Puerto_Rico:20220606T000000
DTEND;TZID=America/Puerto_Rico:20221231T000000
DTSTAMP:20260421T075140
CREATED:20220606T112622Z
LAST-MODIFIED:20220606T112815Z
UID:4763-1654473600-1672444800@integrallearningsolutions.com
SUMMARY:Coaching como metodología en el quehacer profesional del TS
DESCRIPTION:El curso Coaching como Metodología en el Quehacer Profesional de Trabajo Social\, cuenta con la aprobación del Colegio de Trabajo Social de PR\n\nOfrecimiento completamente en virtual.  COMIENZA HOY.   Completa tu educación continua a tu ritmo y desde cualquier lugar.\n\n\n\nHoras contacto aprobadas: 6\n\nInversión: $40 US\nModalidad: ONLINE Autodirigido (completamente en línea) a través de la Academia Virtual de Integral Learning Solutions en https://bit.ly/2VPfLRz\nTodos los métodos de pago requieren registro en: https://forms.gle/jJR5hSZR3eBirSK66\nFormas de pago:\n\nTarjeta de Crédito desde la página web (https://bit.ly/2VPfLRz)\n\nATH Móvil a través del 939-224-8318 (este método requiere registro en https://forms.gle/jJR5hSZR3eBirSK66\, (personal de Integral Learning lo estará contactando).
URL:https://integrallearningsolutions.com/evento/coaching-como-metodologia-en-el-quehacer-profesional-del-ts/
LOCATION:Virtual-ZOOM\, WhatsApp Business 939-224-8318\, PR\, Puerto Rico
ATTACH;FMTTYPE=image/jpeg:https://integrallearningsolutions.com/wp-content/uploads/course-thumbnail-template-700_430-12.jpg
ORGANIZER;CN="Integral Learning Solutions":MAILTO:integrallearningsolutions.info@ilspr.org
END:VEVENT
BEGIN:VEVENT
DTSTART;TZID=America/Puerto_Rico:20220606T180000
DTEND;TZID=America/Puerto_Rico:20221231T220000
DTSTAMP:20260421T075140
CREATED:20220404T161738Z
LAST-MODIFIED:20220606T114210Z
UID:5237-1654538400-1672524000@integrallearningsolutions.com
SUMMARY:Estrategias para erradicar la procrastinación y manejar el tiempo efectivamente
DESCRIPTION:Trabajador Social\, este taller es para ti. APROBADO por 6 hrs contacto.\n\n\nCompleta el curso a tu conveniencia de horario y lugar.  COMPLETAMENTE AUTODIRIGIDO – VIRTUAL\n\n\n\n\nEstrategias para erradicar la procrastinación y manejar el tiempo efectivamente.\n\n\n\nDescripción: El objetivo del taller es aportar información suficiente referente a la procrastinación que pudieran ejecutar los trabajadores sociales y como estas conductas tienen cierta carga negativa repercutiendo en la percepción de su calidad de vida profesional. Además\, se brindarán estrategias para erradicar la procrastinación y manejar el tiempo efectivamente.\n\n\n\n\nOfrecimiento completamente en virtual.  COMIENZA HOY.   Completa tu educación continua a tu ritmo y desde cualquier lugar.\n\n\n\nHoras contacto aprobadas: 6\nInversión: $40 US\nModalidad: ONLINE Autodirigido (completamente en línea) a través de la Academia Virtual de Integral Learning Solutions en https://integrallearningsolutions.com/courses/estrategias-para-erradicar-la-procastinacion-y-manejar-el-tiempo-efectivamente/\n\nTodos los métodos de pago requieren registro en: https://forms.gle/hq2hvDEVyvdMvVz67\nFormas de pago:\n\nTarjeta de Crédito desde la página web  https://buy.stripe.com/dR65mK4Pv6Xo8LufZw\nATH Móvil a través del 939-224-8318 (este método requiere registro en https://forms.gle/hq2hvDEVyvdMvVz67\, (personal de Integral Learning lo estará contactando).
URL:https://integrallearningsolutions.com/evento/estrategias-para-erradicar-la-procrastinacion-y-manejar-el-tiempo-efectivamente/
LOCATION:Academia Virtual – Curso ONLINE AUTODIRIGIDO\, WhatsApp Business 939-224-8318\, PR\, Puerto Rico
ATTACH;FMTTYPE=image/png:https://integrallearningsolutions.com/wp-content/uploads/Pink-Abstract-List-of-Questions-Checklist-Instagram-Post.png
ORGANIZER;CN="Integral Learning Solutions":MAILTO:integrallearningsolutions.info@ilspr.org
END:VEVENT
BEGIN:VEVENT
DTSTART;TZID=America/Puerto_Rico:20220804T180000
DTEND;TZID=America/Puerto_Rico:20220804T220000
DTSTAMP:20260421T075140
CREATED:20220621T170645Z
LAST-MODIFIED:20220621T170645Z
UID:6086-1659636000-1659650400@integrallearningsolutions.com
SUMMARY:Adolescentes que presentan conducta disfuncional en Puerto Rico y el trabajador social
DESCRIPTION:Trabajador Social te invitamos al taller aprobado por el Colegio de Trabajo Social – 6 horas contacto:\n\n\n\nAdolescentes que presentan conducta disfuncional en Puerto Rico y el trabajador social\n\n\n\nDurante ésta capacitación se abordarán las conductas de riesgos\, ley de menores\, delincuencia juvenil\, la realidad social y legislación sobre los adolescentes transgresores en PR y prácticas de intervención\, entre otros.\n\n\n\nRecurso: Profa. Yolanda Massa\, MSW\n\n\nInversión $40\nCuando: 4 de agosto de 2022 – Desde las 6:00 pm Vía ZOOM\nHoras Aprobadas: 6 horas contacto (4 vía ZOOM y 2 hrs. con lectura complementaria)\n\nRegistro en:  https://forms.gle/yYvP1PTghcJh7UJw5\n\n\n\nde pago:\nATH Móvil al 939-224-8318\nTarjeta de Crédito en: https://buy.stripe.com/bIYg1o95LbdE5zi14O
URL:https://integrallearningsolutions.com/evento/adolescentes-que-presentan-conducta-disfuncional-en-puerto-rico-y-el-trabajador-social/
LOCATION:Virtual-ZOOM\, WhatsApp Business 939-224-8318\, PR\, Puerto Rico
ATTACH;FMTTYPE=image/png:https://integrallearningsolutions.com/wp-content/uploads/Pink-Abstract-List-of-Questions-Checklist-Instagram-Post-4.png
ORGANIZER;CN="Integral Learning Solutions":MAILTO:integrallearningsolutions.info@ilspr.org
END:VEVENT
BEGIN:VEVENT
DTSTART;TZID=America/Puerto_Rico:20220820T090000
DTEND;TZID=America/Puerto_Rico:20220820T160000
DTSTAMP:20260421T075140
CREATED:20220610T015532Z
LAST-MODIFIED:20220713T221732Z
UID:5975-1660986000-1661011200@integrallearningsolutions.com
SUMMARY:Programa de Psicología Positiva Aplicada a las Organizaciones
DESCRIPTION:Programa de Psicología Positiva Aplicada a las Organizaciones\n\n\n\nEl Programa ofrece aprendizaje\, ejercicios prácticos\, técnicas y herramientas que permiten trabajar de forma directa con diferentes elementos que son fundamentales para el bienestar duradero de la persona. Permite vivir en primera persona aquello que podemos enseñar a otros y aplicar tanto en la vida personal como en las organizaciones.\n\n\nhttps://integrallearningsolutions.com/psicologiapositiva…/\n\n\n\nCuándo: 20 y 27 de agosto – ZOOM\n\nPrograma de 12 horas contacto\nSerán dos (2) días de capacitación de alto nivel\, hacia el bienestar de la organización a través del valor de la psicología positiva.\n\n\n\nConoce más y registra tu interés en https://integrallearningsolutions.com/psicologiapositiva…/\n\n\nInversión $197 (Original $395)\n\nMétodos de pago por $197:\n\n\nATH Móvil al 939-224-8318\nTarjeta de Crétido en https://buy.stripe.com/fZe6qO5Tza9Ae5O7tb\n\n\n\n\n\n#liderazgo #coaching #psicologiapositivaaplicada
URL:https://integrallearningsolutions.com/evento/programa-de-psicologia-positiva-aplicada-a-las-organizaciones/
LOCATION:Virtual-ZOOM\, WhatsApp Business 939-224-8318\, PR\, Puerto Rico
ATTACH;FMTTYPE=image/png:https://integrallearningsolutions.com/wp-content/uploads/Pink-Abstract-List-of-Questions-Checklist-Instagram-Post-1-1.png
ORGANIZER;CN="Integral Learning Solutions":MAILTO:integrallearningsolutions.info@ilspr.org
END:VEVENT
BEGIN:VEVENT
DTSTART;TZID=America/Puerto_Rico:20220825T180000
DTEND;TZID=America/Puerto_Rico:20220825T220000
DTSTAMP:20260421T075140
CREATED:20220625T203107Z
LAST-MODIFIED:20220625T203107Z
UID:6122-1661450400-1661464800@integrallearningsolutions.com
SUMMARY:Redacción de Propuestas 101 - De la teoría a la práctica
DESCRIPTION:Redacción de Propuestas 101: De la teoría a la práctica\n\n\n\nDescubre la importancia de la redacción de propuestas para el desarrollo de proyectos exitosos. Desarrolla competencias en la identificación\, estructura y redacción de propuestas competitivas.\n\n\n\nAbierto a público general\, Trabajadores Sociales taller aprobado para educación continua.\n\n\n\n21 de mayo desde las 8.30 am. Vía ZOOM\n\nRegistro en: https://forms.gle/hjcKqjke2dRAfC2VA\n\nMétodos de pago:\n\nPago con Tarjeta de Crédito en:\n\nhttps://buy.stripe.com/7sI3eC2HnepQbXGcNb\nPago con ATH Móvil al 939-224-8318
URL:https://integrallearningsolutions.com/evento/redaccion-de-propuestas-101-de-la-teoria-a-la-practica-2/
LOCATION:Virtual-ZOOM\, WhatsApp Business 939-224-8318\, PR\, Puerto Rico
ATTACH;FMTTYPE=image/png:https://integrallearningsolutions.com/wp-content/uploads/2022-2.png
ORGANIZER;CN="Integral Learning Solutions":MAILTO:integrallearningsolutions.info@ilspr.org
END:VEVENT
END:VCALENDAR