BEGIN:VCALENDAR
VERSION:2.0
PRODID:-//Integral Learning Solutions - ECPv6.15.20//NONSGML v1.0//EN
CALSCALE:GREGORIAN
METHOD:PUBLISH
X-ORIGINAL-URL:https://integrallearningsolutions.com
X-WR-CALDESC:Eventos para Integral Learning Solutions
REFRESH-INTERVAL;VALUE=DURATION:PT1H
X-Robots-Tag:noindex
X-PUBLISHED-TTL:PT1H
BEGIN:VTIMEZONE
TZID:America/Puerto_Rico
BEGIN:STANDARD
TZOFFSETFROM:-0400
TZOFFSETTO:-0400
TZNAME:AST
DTSTART:20210101T000000
END:STANDARD
END:VTIMEZONE
BEGIN:VEVENT
DTSTART;TZID=America/Puerto_Rico:20220205T180000
DTEND;TZID=America/Puerto_Rico:20220205T180000
DTSTAMP:20260421T201537
CREATED:20211103T013701Z
LAST-MODIFIED:20211109T231910Z
UID:4011-1644084000-1644084000@integrallearningsolutions.com
SUMMARY:Principios de Liderazgo: Lo que los grandes líderes saben y hacen (Curso Intensivo)
DESCRIPTION:En este curso intensivo de «Principios de Liderazgo: Lo que los grandes líderes saben y hacen» usted se sumergirá en los aspectos prácticos del liderazgo.  Promoviendo su transformación a un líder de ALTO NIVEL. Esto a partir de conocimientos sobre cómo desarrollar el compromiso para liderar el cambio y desarrollar una mentalidad ágil.  Este programa le brinda las habilidades y los principios de liderazgo de grandes líderes como: John Maxwell\, Ken Blanchard\, Stephen Covey y muchos más.  Le brindará a los participantes las competencias prácticas y estrategias para liderar a un alto nivel. \n¿Por qué debe tomar este curso?:  El crecimiento y desarrollo del personal es la función más elevada del liderazgo.  Es ´por esto que las personas que ejercen un buen liderazgo\, alcanzan resultados extraordinarios. \nParte de lo que aprenderá: \n\nContexto teórico del liderazgo\nPrincipios indispensables del liderazgo\nActitud del lider\nEl poder de la influencia\nLa importancia de la escucha activa\nToma de decisiones\nLiderazgo real\nLa estrategia del coaching para liderar\nLos momentos definitivos del líder\nRelaciones interpersonales\nComunicación en el liderazgo\nMucho más\n\nCuándo: viernes\, 5 de febrero de 2022\, desde las 7:00 pm \nIncluye: \n\nCertificado de Capacitación Profesional\nMaterial educativo\nHojas de Trabajo\n\nInversión: $185 US \nRegistro: https://forms.gle/33KjeNKPWh5tVDie7  \nMétodo de pago: \n\nATH Móvil: 939-224-8318\nTarjeta de Crédito: https://buy.stripe.com/00gbL86XD6XoaTCcN6
URL:https://integrallearningsolutions.com/evento/certificacionliderazgo/
LOCATION:Virtual-ZOOM\, WhatsApp Business 939-224-8318\, PR\, Puerto Rico
ATTACH;FMTTYPE=image/jpeg:https://integrallearningsolutions.com/wp-content/uploads/CERTIFICACION-CDA-ADM-6.jpg
END:VEVENT
BEGIN:VEVENT
DTSTART;TZID=America/Puerto_Rico:20220225T080000
DTEND;TZID=America/Puerto_Rico:20220225T170000
DTSTAMP:20260421T201537
CREATED:20220116T212603Z
LAST-MODIFIED:20220116T212756Z
UID:4755-1645776000-1645808400@integrallearningsolutions.com
SUMMARY:Redacción de Propuestas 101: De la teoría a la práctica
DESCRIPTION:Trabajador Social\, no te pierdas esta actividad y comienza a buscar oportunidades para esos proyectos que deseas desarrollar.\n\nCon este taller podrás conocer los procesos para el desarrollo de proyectos competitivos (propuestas).\n\nAPROBADO por el CTS – 6 HRS CONTACTO (4 por ZOOM y 2 horas validación de lectura).\nTe espero el viernes\, 25 de febrero desde las 8.30 am.\n\nRegistro en: https://forms.gle/8ZxPVZqoz5eRGkQJ9\nMétodos de pago:\nPago con Tarjeta de Crédito en: \nhttps://buy.stripe.com/7sI3eC2HnepQbXGcNb\n➡Pago con ATH Móvil al 939-224-8318
URL:https://integrallearningsolutions.com/evento/redaccionpropuestas/
LOCATION:Virtual-ZOOM\, WhatsApp Business 939-224-8318\, PR\, Puerto Rico
ATTACH;FMTTYPE=image/png:https://integrallearningsolutions.com/wp-content/uploads/2.png
ORGANIZER;CN="Integral Learning Solutions":MAILTO:integrallearningsolutions.info@ilspr.org
END:VEVENT
END:VCALENDAR