BEGIN:VCALENDAR
VERSION:2.0
PRODID:-//Integral Learning Solutions - ECPv6.15.20//NONSGML v1.0//EN
CALSCALE:GREGORIAN
METHOD:PUBLISH
X-ORIGINAL-URL:https://integrallearningsolutions.com
X-WR-CALDESC:Eventos para Integral Learning Solutions
REFRESH-INTERVAL;VALUE=DURATION:PT1H
X-Robots-Tag:noindex
X-PUBLISHED-TTL:PT1H
BEGIN:VTIMEZONE
TZID:America/Puerto_Rico
BEGIN:STANDARD
TZOFFSETFROM:-0400
TZOFFSETTO:-0400
TZNAME:AST
DTSTART:20200101T000000
END:STANDARD
END:VTIMEZONE
BEGIN:VEVENT
DTSTART;TZID=America/Puerto_Rico:20220311T180000
DTEND;TZID=America/Puerto_Rico:20220311T180000
DTSTAMP:20260420T133031
CREATED:20211102T233400Z
LAST-MODIFIED:20211105T132302Z
UID:4006-1647021600-1647021600@integrallearningsolutions.com
SUMMARY:Certificación en Administración de la Oficina Moderna
DESCRIPTION:Te invitamos a registrarte en la Certificación en Administración de la Oficina Moderna.  Esta certificación capacitará al participante para desempeñarse efectivamente en el contexto administrativo / oficina.  Como parte de la certificación tendrás la oportunidad de desarrollar competencias en las siguientes áreas: \n✔Procedimientos administrativos ✔ Administración de documentos ✔ Comunicación Comercial ✔ Aspectos medulares de los programas de MS Office ✔ Manejo del tiempo ✔ Reuniones efectivas ✔ Aspectos de la gerencia empresarial (recursos humanos\, liderazgo) ✔ Relaciones interpersonales y motivación ✔ Mucho más \nModalidad: Híbrido \nCuándo: jueves\, 11 de marzo de 2022\, desde las 6:00 pm\nIncluye: \n\nCertificado de Capacitación Profesional\nMaterial educativo\nHojas de Trabajo\n\nInversión: $345 US \nRegistro: https://forms.gle/5NfrpKkkyGWifhy16 \nMétodo de pago: \n\nATH Móvil: 939-224-8318\nTarjeta de Crédito: https://buy.stripe.com/fZe4iG5Tz0z04ve8wO
URL:https://integrallearningsolutions.com/evento/administracionoficina/
LOCATION:Virtual-ZOOM\, WhatsApp Business 939-224-8318\, PR\, Puerto Rico
ATTACH;FMTTYPE=image/jpeg:https://integrallearningsolutions.com/wp-content/uploads/CERTIFICACION-CDA-ADM-3.jpg
END:VEVENT
BEGIN:VEVENT
DTSTART;TZID=America/Puerto_Rico:20220302T180000
DTEND;TZID=America/Puerto_Rico:20220302T180000
DTSTAMP:20260420T133031
CREATED:20211112T161349Z
LAST-MODIFIED:20211112T161349Z
UID:4044-1646244000-1646244000@integrallearningsolutions.com
SUMMARY:Certificación en Procedimientos Disciplinarios
DESCRIPTION:Si eres del área de Recursos Humanos\, Gerente o Empresario(a) esta certificación es para tí. \nLa certificación en Procedimientos Disciplinarios en las Organizaciones está dirigida a capacitar en todo lo relacionado a la disciplina empresarial\, legislaciones aplicables que inciden en el lugar de trabajo\, procesos de evaluación\, y mucho. más.  La certificación será dictada por la Lcda. Irlanda Ruiz y tendrá una duración de 30 horas contacto\, las cuales se completarán a través de ZOOM y con el apoyo de la Academía Virtual. \nModalidad ONLINE-Híbrida (Presencial por ZOOM y Videotutoriales) \nA quién está dirigido: \nEl curso está dirigido a profesionales de recursos humanos\, ejecutivos\, gerenciales\, líderes\, pequeños negocios\, agencias públicas o privadas\, organizaciones sin fines o con fines de lucro\, estudiantes de Administración de Empresas y áreas relacionadas. \nTemas generales: \n\nLa disciplina empresarial\nLegislaciones que inciden en el lugar del trabajo\nRol del supervisor en el lugar de trabajo\nProcesos de evaluación\nLa acción disciplinaria\nTaller práctico\n\nQueremos que formes parte de esta certificación\, te invito a registrarte en el siguiente enlace para poder contactarte y brindarte mayores detalles de contenido\, logística e inversión (costo).\nCertificación inicia: 2 de marzo\, desde las 6:00 pm vía ZOOM.\nEnlace de registro:  https://forms.gle/BC1YUjAMLjdD8fFM8 \n\nCOTIZACIONES A ORGANIZACIONES DISPONIBLE – Sólo modalidad ONLINE
URL:https://integrallearningsolutions.com/evento/certificacionprocedimientosdisciplinarios/
LOCATION:Virtual-ZOOM\, WhatsApp Business 939-224-8318\, PR\, Puerto Rico
ATTACH;FMTTYPE=image/jpeg:https://integrallearningsolutions.com/wp-content/uploads/Blue-and-White-Quotes-Instagram-Post-11.jpg
END:VEVENT
BEGIN:VEVENT
DTSTART;TZID=America/Puerto_Rico:20220225T080000
DTEND;TZID=America/Puerto_Rico:20220225T170000
DTSTAMP:20260420T133031
CREATED:20220116T212603Z
LAST-MODIFIED:20220116T212756Z
UID:4755-1645776000-1645808400@integrallearningsolutions.com
SUMMARY:Redacción de Propuestas 101: De la teoría a la práctica
DESCRIPTION:Trabajador Social\, no te pierdas esta actividad y comienza a buscar oportunidades para esos proyectos que deseas desarrollar.\n\nCon este taller podrás conocer los procesos para el desarrollo de proyectos competitivos (propuestas).\n\nAPROBADO por el CTS – 6 HRS CONTACTO (4 por ZOOM y 2 horas validación de lectura).\nTe espero el viernes\, 25 de febrero desde las 8.30 am.\n\nRegistro en: https://forms.gle/8ZxPVZqoz5eRGkQJ9\nMétodos de pago:\nPago con Tarjeta de Crédito en: \nhttps://buy.stripe.com/7sI3eC2HnepQbXGcNb\n➡Pago con ATH Móvil al 939-224-8318
URL:https://integrallearningsolutions.com/evento/redaccionpropuestas/
LOCATION:Virtual-ZOOM\, WhatsApp Business 939-224-8318\, PR\, Puerto Rico
ATTACH;FMTTYPE=image/png:https://integrallearningsolutions.com/wp-content/uploads/2.png
ORGANIZER;CN="Integral Learning Solutions":MAILTO:integrallearningsolutions.info@ilspr.org
END:VEVENT
BEGIN:VEVENT
DTSTART;TZID=America/Puerto_Rico:20220205T180000
DTEND;TZID=America/Puerto_Rico:20220205T180000
DTSTAMP:20260420T133031
CREATED:20211103T013701Z
LAST-MODIFIED:20211109T231910Z
UID:4011-1644084000-1644084000@integrallearningsolutions.com
SUMMARY:Principios de Liderazgo: Lo que los grandes líderes saben y hacen (Curso Intensivo)
DESCRIPTION:En este curso intensivo de «Principios de Liderazgo: Lo que los grandes líderes saben y hacen» usted se sumergirá en los aspectos prácticos del liderazgo.  Promoviendo su transformación a un líder de ALTO NIVEL. Esto a partir de conocimientos sobre cómo desarrollar el compromiso para liderar el cambio y desarrollar una mentalidad ágil.  Este programa le brinda las habilidades y los principios de liderazgo de grandes líderes como: John Maxwell\, Ken Blanchard\, Stephen Covey y muchos más.  Le brindará a los participantes las competencias prácticas y estrategias para liderar a un alto nivel. \n¿Por qué debe tomar este curso?:  El crecimiento y desarrollo del personal es la función más elevada del liderazgo.  Es ´por esto que las personas que ejercen un buen liderazgo\, alcanzan resultados extraordinarios. \nParte de lo que aprenderá: \n\nContexto teórico del liderazgo\nPrincipios indispensables del liderazgo\nActitud del lider\nEl poder de la influencia\nLa importancia de la escucha activa\nToma de decisiones\nLiderazgo real\nLa estrategia del coaching para liderar\nLos momentos definitivos del líder\nRelaciones interpersonales\nComunicación en el liderazgo\nMucho más\n\nCuándo: viernes\, 5 de febrero de 2022\, desde las 7:00 pm \nIncluye: \n\nCertificado de Capacitación Profesional\nMaterial educativo\nHojas de Trabajo\n\nInversión: $185 US \nRegistro: https://forms.gle/33KjeNKPWh5tVDie7  \nMétodo de pago: \n\nATH Móvil: 939-224-8318\nTarjeta de Crédito: https://buy.stripe.com/00gbL86XD6XoaTCcN6
URL:https://integrallearningsolutions.com/evento/certificacionliderazgo/
LOCATION:Virtual-ZOOM\, WhatsApp Business 939-224-8318\, PR\, Puerto Rico
ATTACH;FMTTYPE=image/jpeg:https://integrallearningsolutions.com/wp-content/uploads/CERTIFICACION-CDA-ADM-6.jpg
END:VEVENT
BEGIN:VEVENT
DTSTART;TZID=America/Puerto_Rico:20220121T183000
DTEND;TZID=America/Puerto_Rico:20220121T183000
DTSTAMP:20260420T133031
CREATED:20211102T210342Z
LAST-MODIFIED:20211105T132205Z
UID:4000-1642789800-1642789800@integrallearningsolutions.com
SUMMARY:Brilla\, lidera y emprende (Webinar)
DESCRIPTION:Todos tenemos el potencial\, solo debemos desarrollarlo.  Durante este webinar\, los participantes podrán darse cuenta del gran potencial que tienen para hacer que las cosas sucedan.  Te permitirá descubrir y poner a trabajar tus fortalezas\, expandir tus pensamientos\, romper tus límites y definir tu visión de crecimiento.  Comienza el año 2022 liderando tu éxito.   \nCuándo: viernes\, 21 de enero de 2022\, desde las 7:00 pm\nIncluye:\nCertificado\nHojas de Trabajo \nInversión: $25 US \nRegistro: https://forms.gle/qA3TawYdL1QuV4Ft6 \nMétodo de pago: \n\nATH Móvil: 939-224-8318\nTarjeta de Crédito: https://buy.stripe.com/fZe4iG5Tz0z04ve8wO\n\n 
URL:https://integrallearningsolutions.com/evento/brilla/
LOCATION:PR
ATTACH;FMTTYPE=image/jpeg:https://integrallearningsolutions.com/wp-content/uploads/Blue-and-White-Quotes-Instagram-Post-8.jpg
END:VEVENT
BEGIN:VEVENT
DTSTART;TZID=America/Puerto_Rico:20211220T183000
DTEND;TZID=America/Puerto_Rico:20211220T210000
DTSTAMP:20260420T133031
CREATED:20211102T192732Z
LAST-MODIFIED:20211105T131740Z
UID:3991-1640025000-1640034000@integrallearningsolutions.com
SUMMARY:7 Hábitos de las Personas Altamente Efectivas
DESCRIPTION:Estas invitad@ a participar del taller 7 Hábitos de las Personas Altamente Efectivas. Éste webinar basado en el best-seller de Stephen R. Covey\, con más de 20 millones de copias vendidas. Descubre y aprende un enfoque para la gestión y liderazgo. Con esta formación obtendrás una visión renovada para amentar tu efectividad de inmediato y de manera sostenible\, estableciendo relaciones de confianza mutua y aumentando la implicación para trabajar de forma eficaz en equipo. \nFecha: lunes\, 20 de diciembre en el horario de 6:30 pm \nIncluye:\n✔✔ Libro de texto pdf\n✔✔ Hojas de Trabajo\n✔✔ Videograbación del Webinar \nInversión: $25 US \nRegistro: https://forms.gle/HdqEqqctM9edyY5j7\n👀👉Métodos de pago:\nATH MÓVIL al 939-224-8318 \nTarjeta de Crédito en: https://buy.stripe.com/14kbL8a9PchI9PyaEV \nLa sesión será grabada\, fotos y videos podrán ser parte de futuros promociones o publicadas en nuestra página Web y redes sociales.
URL:https://integrallearningsolutions.com/evento/7habitos/
LOCATION:Virtual-ZOOM\, WhatsApp Business 939-224-8318\, PR\, Puerto Rico
ATTACH;FMTTYPE=image/jpeg:https://integrallearningsolutions.com/wp-content/uploads/Blue-and-White-Quotes-Instagram-Post-7.jpg
END:VEVENT
BEGIN:VEVENT
DTSTART;TZID=America/Puerto_Rico:20211210T190000
DTEND;TZID=America/Puerto_Rico:20211210T210000
DTSTAMP:20260420T133031
CREATED:20211024T010343Z
LAST-MODIFIED:20211105T131830Z
UID:3939-1639162800-1639170000@integrallearningsolutions.com
SUMMARY:Lidera tu Sueño y Emprende con Intencionalidad
DESCRIPTION:Este taller te brindará la oportunidad de unir fuerzas y expresar tu opinión con un grupo único de personas motivadas\, con pensamientos similares y que están enfocados en crecer en cada una de las áreas de sus vidas\, con el fin de elevarse al siguiente nivel. \n✔Vive tu sueño \n✔Reconoce el líder que hay en tí \n✔Crece con Intencionalidad \n✔Asegúrate de vivir tu sueño y no el de otra persona \n✔Identifica las claves para lograr el éxito y los saboteadores de tus sueños. \nJusto ahora\, tienes todo lo que hace falta para comenzar. Solo necesitas administrar tu potencial intencionalmente y de forma consciente.  Todas tus experiencias\, habilidades y talentos los tienes que activar.  HOY ES EL COMIENZO.  HAZLO AHORA. \n👉Cuándo: viernes\, 10 de diciembre desde las 6:30 pm\n👉Incluye:\n✔✔✔Certificado\n✔✔✔Libro en PDF\n✔✔✔Hojas de Trabajo \nInversión: $15 US \nRegistro: https://forms.gle/qA3TawYdL1QuV4Ft6 \nMétodo de pago: \n\nATH Móvil: 939-224-8318\nTarjeta de Crédito: https://buy.stripe.com/14k7uS0zf6Xo5zicN2
URL:https://integrallearningsolutions.com/evento/lideratusueno/
LOCATION:Virtual-ZOOM\, WhatsApp Business 939-224-8318\, PR\, Puerto Rico
ATTACH;FMTTYPE=image/png:https://integrallearningsolutions.com/wp-content/uploads/Lidera-tu-sueno-y-emprende-con-intencionalidad.png
ORGANIZER;CN="Integral Learning Solutions":MAILTO:integrallearningsolutions.info@ilspr.org
END:VEVENT
END:VCALENDAR