BEGIN:VCALENDAR
VERSION:2.0
PRODID:-//Integral Learning Solutions - ECPv6.15.20//NONSGML v1.0//EN
CALSCALE:GREGORIAN
METHOD:PUBLISH
X-WR-CALNAME:Integral Learning Solutions
X-ORIGINAL-URL:https://integrallearningsolutions.com
X-WR-CALDESC:Eventos para Integral Learning Solutions
REFRESH-INTERVAL;VALUE=DURATION:PT1H
X-Robots-Tag:noindex
X-PUBLISHED-TTL:PT1H
BEGIN:VTIMEZONE
TZID:America/Puerto_Rico
BEGIN:STANDARD
TZOFFSETFROM:-0400
TZOFFSETTO:-0400
TZNAME:AST
DTSTART:20250101T000000
END:STANDARD
END:VTIMEZONE
BEGIN:VEVENT
DTSTART;TZID=America/Puerto_Rico:20260121T183000
DTEND;TZID=America/Puerto_Rico:20260311T213000
DTSTAMP:20260419T162843
CREATED:20251210T143807Z
LAST-MODIFIED:20251210T143807Z
UID:9845-1769020200-1773264600@integrallearningsolutions.com
SUMMARY:Certificación en Inteligencia Artificial: Estrategias Digitales para la Productividad
DESCRIPTION:Al completar el registro usted presenta su interés en participar de la Certificación en Inteligencia Artificial: Estrategias Digitales para la Productividad y la Innovación\n🌟 Fecha de inicio: 21 de enero ⏰ 6:30 pm \n💻 Vía ZOOM\n\nDescripción:  El participante aprenderá a optimizar procesos\, crear contenido efectivo\, automatizar tareas y diseñar soluciones digitales que aumenten su productividad y creatividad. \nInversión y métodos de pago:\n\nOpción 1:  💵 $295 (un solo pago) –  Método de págo: ATH Móvil al 939-224-8318 o Tarjeta de Crédito en:  https://buy.stripe.com/5kQ3cugCtdUXbT46OZ0co1G\nOpción 2:  💵 💵 $325 en plan de dos pagos de $162.50 – Método de pago: Tarjeta de Crédito en: https://buy.stripe.com/eVq00i1HzeZ14qCddn0co1H\n\nPropósito del programa: Desarrollar en el participante las destrezas necesarias para integrar herramientas digitales avanzadas en su vida profesional\, logrando agilizar tareas\, mejorar la calidad del trabajo y adoptar métodos innovadores que respondan a las exigencias del entorno actual.\n🤷🏼‍♂️Público al que va dirigido \n\nProfesionales de cualquier disciplina\nEmprendedores\, líderes y supervisores\nCreadores de contenido\nPersonas con interés en crecer en el  ámbito digital\n\nQué aprenderás:\n \n\nPanorama de la innovación digital\nHerramientas digitales\, productividad y creación de asistentes digitales\nAutomatización básica\nCreación eficiente de contenido digital\nNarrativa\, storytelling y presentaciones modernas\nHerramientas visuales: imágenes\, branding y creatividad\nVideo y contenido multimedia con herramientas digitales\nSoluciones digitales inteligentes para proyectos y equipos\nLaboratorio de Integración Práctica\nPresentación de proyectos y plan de implementación\n\nQué incluye:  Certificado de capacitación profesional\, material educativo preparado por recurso docente\, acceso a la academia virtual donde se alojarán los videos de cada clase\n \nDías de reunión:  miércoles\, desde el 21 de enero hasta al 11 dse marzo de 2025 (6 horas trabajos autodirigidos) \nIMPORTANTE: Al finalizar la certificación se emite certificado de capacitación profesional por el total de horas completadas y su equivalente en unidades de educación continua.  Para participar\, debe completar un registro. Los enlaces de acceso y las instrucciones serán enviados previo a la actividad. La actividad será grabada y se tomarán fotos para uso de Integral Learning Solutions.
URL:https://integrallearningsolutions.com/evento/certificacion-en-inteligencia-artificial-estrategias-digitales-para-la-productividad/
LOCATION:Virtual-ZOOM\, WhatsApp Business 939-224-8318\, PR\, Puerto Rico
CATEGORIES:Administración,Administración de Oficina,Coaching,Consultoría,Educación,Idiomas,Liderazgo,Mediación,Tecnología,Trabajo Social
ATTACH;FMTTYPE=image/png:https://integrallearningsolutions.com/wp-content/uploads/Add-a-subheading.png
ORGANIZER;CN="Integral Learning Solutions":MAILTO:integrallearningsolutions.info@ilspr.org
END:VEVENT
END:VCALENDAR