BEGIN:VCALENDAR
VERSION:2.0
PRODID:-//Integral Learning Solutions - ECPv6.15.20//NONSGML v1.0//EN
CALSCALE:GREGORIAN
METHOD:PUBLISH
X-WR-CALNAME:Integral Learning Solutions
X-ORIGINAL-URL:https://integrallearningsolutions.com
X-WR-CALDESC:Eventos para Integral Learning Solutions
REFRESH-INTERVAL;VALUE=DURATION:PT1H
X-Robots-Tag:noindex
X-PUBLISHED-TTL:PT1H
BEGIN:VTIMEZONE
TZID:America/Puerto_Rico
BEGIN:STANDARD
TZOFFSETFROM:-0400
TZOFFSETTO:-0400
TZNAME:AST
DTSTART:20220101T000000
END:STANDARD
END:VTIMEZONE
BEGIN:VEVENT
DTSTART;TZID=America/Puerto_Rico:20231229T080000
DTEND;TZID=America/Puerto_Rico:20241231T170000
DTSTAMP:20260421T192612
CREATED:20231229T230458Z
LAST-MODIFIED:20231229T230458Z
UID:8846-1703836800-1735664400@integrallearningsolutions.com
SUMMARY:Certificación en Educación a Distancia y Docencia Virtual
DESCRIPTION:La certificación en Educación a Distancia y Docencia Virtual es completamente en línea. \n  \nEstá disponible durante todo el año para que puedas matricularte a tu conveniencia. \nCuenta con 45 horas de contacto entre las que podrás lograr las siguientes competencias: \n\nConocimiento en la historia de la educación virtual\nModelos de enseñanza virtual\nEstraegias para la enseñanza virtual\nDesarrollo de un curso o módulo en línea\nIdentificación de variedad de plataformas y herramientas educativas para integrarlos a tus cursos\nHabilidades de un docente virtual\nMucho más\n\n  \n  \nContarás con un Certificado de Capacitación Profesional al finalizar la jornada de aprendizaje y material descargable.
URL:https://integrallearningsolutions.com/evento/certificacion-en-educacion-a-distancia-y-docencia-virtual/
LOCATION:Academia Virtual – Curso ONLINE AUTODIRIGIDO\, WhatsApp Business 939-224-8318\, PR\, Puerto Rico
CATEGORIES:Educación,Liderazgo
ATTACH;FMTTYPE=image/jpeg:https://integrallearningsolutions.com/wp-content/uploads/2024-6.jpg
ORGANIZER;CN="Integral Learning Solutions":MAILTO:integrallearningsolutions.info@ilspr.org
END:VEVENT
BEGIN:VEVENT
DTSTART;TZID=America/Puerto_Rico:20240203T180000
DTEND;TZID=America/Puerto_Rico:20240203T210000
DTSTAMP:20260421T192612
CREATED:20220625T202734Z
LAST-MODIFIED:20231229T232332Z
UID:6118-1706983200-1706994000@integrallearningsolutions.com
SUMMARY:Training the Trainers (Adiestrando al Adiestrador)
DESCRIPTION:Inscríbete en la Certificación Training the Trainers (Adiestrando al Adiestrador)\n\n\n\n\nConoce el arte de adiestrar\, vive la experiencia y monetiza tu conocimiento\n\n\nDurante la certificación podrás conocer las estrategias para la capacitación del participante adulto\, fortalecer tus habilidades como adiestrador y optimizar el desarrollo y la ejecución de sus programas de capacitación internos\, Además\, podrán desarrollar competencias para el análisis\, diseño\, desarrollo\, implementación y evaluación del proceso de adiestramiento. La certificación promueve la obtención de una base sólida en técnicas de capacitación y facilitación tanto en la modalidad presencial como virtual.\n\n\n\n\nDuración: 24 horas contacto\n\n\nModalidad: Híbrida (clases sincrónicas por ZOOM y clases autodirigidas)\n\n\n\nIncluye: Certificado\, material educativo\, material complementario\, acceso a plataforma educativa 24/7 y por hasta cuatro meses a partir de la fecha de finalización\n\n\nCuándo inicia: 3 de febrero de 2024 desde las 9:00 am vía ZOOM\n\nRegistro en https://forms.office.com/r/5rUZHBHZBn\n\nInversión $385\n\nNO LO DEJES PASAR. MATRICÚLATE AHORA.\n\n\n#trainingthetrainers
URL:https://integrallearningsolutions.com/evento/training-the-trainers-adiestrando-al-adiestrador/
LOCATION:Virtual-ZOOM\, WhatsApp Business 939-224-8318\, PR\, Puerto Rico
CATEGORIES:Coaching,Liderazgo
ATTACH;FMTTYPE=image/jpeg:https://integrallearningsolutions.com/wp-content/uploads/2024-8.jpg
ORGANIZER;CN="Integral Learning Solutions":MAILTO:integrallearningsolutions.info@ilspr.org
END:VEVENT
END:VCALENDAR