BEGIN:VCALENDAR
VERSION:2.0
PRODID:-//Integral Learning Solutions - ECPv6.15.20//NONSGML v1.0//EN
CALSCALE:GREGORIAN
METHOD:PUBLISH
X-WR-CALNAME:Integral Learning Solutions
X-ORIGINAL-URL:https://integrallearningsolutions.com
X-WR-CALDESC:Eventos para Integral Learning Solutions
REFRESH-INTERVAL;VALUE=DURATION:PT1H
X-Robots-Tag:noindex
X-PUBLISHED-TTL:PT1H
BEGIN:VTIMEZONE
TZID:America/Puerto_Rico
BEGIN:STANDARD
TZOFFSETFROM:-0400
TZOFFSETTO:-0400
TZNAME:AST
DTSTART:20220101T000000
END:STANDARD
END:VTIMEZONE
BEGIN:VEVENT
DTSTART;TZID=America/Puerto_Rico:20230401T190000
DTEND;TZID=America/Puerto_Rico:20230401T210000
DTSTAMP:20260421T062645
CREATED:20230304T014040Z
LAST-MODIFIED:20230304T014045Z
UID:8006-1680375600-1680382800@integrallearningsolutions.com
SUMMARY:Descubre 5 principios que te harán brillar como líder
DESCRIPTION:Curso:  Descubre 5 principios que te harán brillar como líder   (2 hrs. Contacto – .2 CEU) \n🌟 El webinar está dirigido a líderes o potenciales líderes.  Durante el curso podrás reflexionar respecto a los cinco principios escenciales para hacer brillar tu liderazgo y emplear los mismos para mayor efectividad. \n\n🌟Modalidad: Presencial  Sincrónica Vía ZOOMBeneficios: \n\n\nAdquiere competencias de liderazgo\nComparte con otros líderes\, crea vínculos profesionales\nDescubre tu nivel de liderazgo\nAplica el nuevo conocimiento a tu contexto laboral.\n\n\nRegístrate para participar en: https://forms.gle/1hHy33wHYBtUt57c7\n\n📆 Fecha: sábado\, 1 de abril  desde las 7pm – vía ZOOM\n\nInversión Webinar: $0.00 – Gratis\n\n \nOpcional – Certificado o constancia de participación u horas contacto\, el mismo tiene un valor de $12.00 \nPagos Únicos con ATH Móvil (939-224-8318) o Tarjeta de Crédito en ⬇⬇⬇\nhttps://buy.stripe.com/00gg1o95LgxY0eY3df
URL:https://integrallearningsolutions.com/evento/descubre-5-principios-que-te-haran-brillar-como-lider/
LOCATION:Virtual-ZOOM\, WhatsApp Business 939-224-8318\, PR\, Puerto Rico
CATEGORIES:Liderazgo
ATTACH;FMTTYPE=image/jpeg:https://integrallearningsolutions.com/wp-content/uploads/MEDIACION-2023-10.jpg
ORGANIZER;CN="Integral Learning Solutions":MAILTO:integrallearningsolutions.info@ilspr.org
END:VEVENT
END:VCALENDAR