BEGIN:VCALENDAR
VERSION:2.0
PRODID:-//Integral Learning Solutions - ECPv6.15.20//NONSGML v1.0//EN
CALSCALE:GREGORIAN
METHOD:PUBLISH
X-WR-CALNAME:Integral Learning Solutions
X-ORIGINAL-URL:https://integrallearningsolutions.com
X-WR-CALDESC:Eventos para Integral Learning Solutions
REFRESH-INTERVAL;VALUE=DURATION:PT1H
X-Robots-Tag:noindex
X-PUBLISHED-TTL:PT1H
BEGIN:VTIMEZONE
TZID:America/Puerto_Rico
BEGIN:STANDARD
TZOFFSETFROM:-0400
TZOFFSETTO:-0400
TZNAME:AST
DTSTART:20210101T000000
END:STANDARD
END:VTIMEZONE
BEGIN:VEVENT
DTSTART;TZID=America/Puerto_Rico:20220528T060000
DTEND;TZID=America/Puerto_Rico:20220528T210000
DTSTAMP:20260421T140420
CREATED:20220419T212531Z
LAST-MODIFIED:20220419T212531Z
UID:5365-1653717600-1653771600@integrallearningsolutions.com
SUMMARY:CDA 120 HORAS - CHILD DEVELOPMENT ASSOCIATE
DESCRIPTION:CDA – 120 HORAS PREPARACIÓN Y DESARROLLO PROFESIONAL CONDUCENTE A LA CREDENCIAL EN CHILD DEVELOPMENT ASSOCIATE\n\nInteresas trabajar con infantes y preescolares\, entonces necesitas completar los requisitos para la certificación de CDA.\n\nNo lo dejes para después regístrate en el curso de CDA -120 horas. Un curso flexible y a tu alcance\, con muchísimos beneficios:\n\nEscríbenos por WhatsApp al 939-224-8318 o regístrate para recibir información en https://forms.gle/MUD2bt2GCUA1rX8f8\n\nBeneficios:\n\nCurso híbrido a través de ZOOM y plataforma educativa diseñada para el curso (flexible)\nVideo grabaciones de las sesiones realizadas en vivo (lo que te permite repasar todo el contenido)\nAcceso por hasta tres meses una vez completes el curso\nCurso completamente facilitado\n\n\n\n\nINICIAMOS: SÁBADO\, 28 DE MAYO – REGÍSTRATE AHORA\n\nInversión: $495 – Todas las opciones de pago requieren registro en el enlace de matrícula:\nMatrículate en: https://forms.gle/MUD2bt2GCUA1rX8f8\n\nPago con ATH Móvil al 939-224-8318\nInversión $495 con Tarjeta Crédito – https://buy.stripe.com/dR66qO3LrepQ0eY00s\n\n\nContáctanos y recibirás toda la informaicón que necesitas\, sin compromiso alguno! ESTAMOS PARA SERVIRTE.\n\n\n#ILSPR
URL:https://integrallearningsolutions.com/evento/cda-120-horas-child-development-associate/
LOCATION:Virtual-ZOOM\, WhatsApp Business 939-224-8318\, PR\, Puerto Rico
ATTACH;FMTTYPE=image/png:https://integrallearningsolutions.com/wp-content/uploads/2022.png
ORGANIZER;CN="Integral Learning Solutions":MAILTO:integrallearningsolutions.info@ilspr.org
END:VEVENT
END:VCALENDAR