BEGIN:VCALENDAR
VERSION:2.0
PRODID:-//Integral Learning Solutions - ECPv6.15.20//NONSGML v1.0//EN
CALSCALE:GREGORIAN
METHOD:PUBLISH
X-WR-CALNAME:Integral Learning Solutions
X-ORIGINAL-URL:https://integrallearningsolutions.com
X-WR-CALDESC:Eventos para Integral Learning Solutions
REFRESH-INTERVAL;VALUE=DURATION:PT1H
X-Robots-Tag:noindex
X-PUBLISHED-TTL:PT1H
BEGIN:VTIMEZONE
TZID:America/Puerto_Rico
BEGIN:STANDARD
TZOFFSETFROM:-0400
TZOFFSETTO:-0400
TZNAME:AST
DTSTART:20210101T000000
END:STANDARD
END:VTIMEZONE
BEGIN:VEVENT
DTSTART;TZID=America/Puerto_Rico:20220525T180000
DTEND;TZID=America/Puerto_Rico:20220525T220000
DTSTAMP:20260421T140416
CREATED:20220404T161433Z
LAST-MODIFIED:20220404T161433Z
UID:5234-1653501600-1653516000@integrallearningsolutions.com
SUMMARY:Certificación Training the Trainers (Adiestrando al Adiestrador)
DESCRIPTION:Inscríbete en la Certificación Train the Trainers (Adiestrando al Adiestrador) – Conoce el arte de adiestrar y comienza a vivir la experiencia.\n\n\nDurante la certificación podrás conocer las estrategias para la capacitación del participante adulto\, fortalecer tus habilidades como adiestrador y optimizar el desarrollo y la ejecución de sus programas de capacitación internos\, Además\, podrán desarrollar competencias para el análisis\, diseño\, desarrollo\, implementación y evaluación del proceso de adiestramiento. La certificación promueve la obtención de una base sólida en técnicas de capacitación y facilitación tanto en la modalidad presencial como virtual.\n\n\n\nDuración: 30 horas contacto\nModalidad: Híbrida (clases sincrónicas por ZOOM y clases autodirigidas)\nIncluye: Certificado\, material educativo\, material complementario\, acceso a plataforma educativa 24/7 y por hasta cuatro meses a partir de la fecha de finalización\n\n\nCuándo inicia: 25 de mayo desde las 6:00 pm vía ZOOM\n\n\n\nRegistro en https://forms.gle/8JTr7DiaVC9dpmVG9\nInversión $385\n\nMétodos de pago:\nTarjeta de Crédito en https://buy.stripe.com/7sI9D02Hn3LcaTCfZx\nATH Móvil en el 939-224-8318\n\n\n\nCertificación dirigida para toda persona que interese desarrollar adiestramientos presenciales o virtuales. Si eres consultor\, coach\, emprendedor\, conferenciante\, entre otras profesiones esta certificación es para ti.\n\n\nNO LO DEJES PASAR. MATRICÚLATE AHORA.
URL:https://integrallearningsolutions.com/evento/certificacion-training-the-trainers-adiestrando-al-adiestrador/
LOCATION:Virtual-ZOOM\, WhatsApp Business 939-224-8318\, PR\, Puerto Rico
ATTACH;FMTTYPE=image/jpeg:https://integrallearningsolutions.com/wp-content/uploads/2022-2.jpg
ORGANIZER;CN="Integral Learning Solutions":MAILTO:integrallearningsolutions.info@ilspr.org
END:VEVENT
END:VCALENDAR