BEGIN:VCALENDAR
VERSION:2.0
PRODID:-//Integral Learning Solutions - ECPv6.15.20//NONSGML v1.0//EN
CALSCALE:GREGORIAN
METHOD:PUBLISH
X-WR-CALNAME:Integral Learning Solutions
X-ORIGINAL-URL:https://integrallearningsolutions.com
X-WR-CALDESC:Eventos para Integral Learning Solutions
REFRESH-INTERVAL;VALUE=DURATION:PT1H
X-Robots-Tag:noindex
X-PUBLISHED-TTL:PT1H
BEGIN:VTIMEZONE
TZID:America/Puerto_Rico
BEGIN:STANDARD
TZOFFSETFROM:-0400
TZOFFSETTO:-0400
TZNAME:AST
DTSTART:20210101T000000
END:STANDARD
END:VTIMEZONE
BEGIN:VEVENT
DTSTART;TZID=America/Puerto_Rico:20220521T083000
DTEND;TZID=America/Puerto_Rico:20220521T123000
DTSTAMP:20260421T140631
CREATED:20220404T152921Z
LAST-MODIFIED:20220404T152921Z
UID:5230-1653121800-1653136200@integrallearningsolutions.com
SUMMARY:Redacción de Propuestas 101: De la teoría a la práctica
DESCRIPTION:Redacción de Propuestas 101: De la teoría a la práctica\nAPROBADO por el CTS – 6 HRS CONTACTO (4 por ZOOM y 2 horas validación de lectura).\n\n\nDescubre la importancia de la redacción de propuestas en la profesión de trabajo social. Desarrolla competencias en la identificación\, estructura y redacción de propuestas competitivas.\n\n\nCuándo – 21 de mayo desde las 8.30 am. Vía ZOOM\n\nRegistro en: https://forms.gle/8ZxPVZqoz5eRGkQJ9\n\n\nMétodos de pago:\n\n\nPago con Tarjeta de Crédito en: https://buy.stripe.com/7sI3eC2HnepQbXGcNb\nPago con ATH Móvil al 939-224-8318 \n\n\n\n#ilspr #propuestas #redaccionpropuestas
URL:https://integrallearningsolutions.com/evento/redaccion-de-propuestas-101-de-la-teoria-a-la-practica/
LOCATION:PR
ATTACH;FMTTYPE=image/jpeg:https://integrallearningsolutions.com/wp-content/uploads/2022-3.jpg
ORGANIZER;CN="Integral Learning Solutions":MAILTO:integrallearningsolutions.info@ilspr.org
END:VEVENT
END:VCALENDAR