BEGIN:VCALENDAR
VERSION:2.0
PRODID:-//Integral Learning Solutions - ECPv6.15.20//NONSGML v1.0//EN
CALSCALE:GREGORIAN
METHOD:PUBLISH
X-WR-CALNAME:Integral Learning Solutions
X-ORIGINAL-URL:https://integrallearningsolutions.com
X-WR-CALDESC:Eventos para Integral Learning Solutions
REFRESH-INTERVAL;VALUE=DURATION:PT1H
X-Robots-Tag:noindex
X-PUBLISHED-TTL:PT1H
BEGIN:VTIMEZONE
TZID:America/Puerto_Rico
BEGIN:STANDARD
TZOFFSETFROM:-0400
TZOFFSETTO:-0400
TZNAME:AST
DTSTART:20210101T000000
END:STANDARD
END:VTIMEZONE
BEGIN:VEVENT
DTSTART;TZID=America/Puerto_Rico:20220513T180000
DTEND;TZID=America/Puerto_Rico:20220513T210000
DTSTAMP:20260421T140418
CREATED:20220404T162101Z
LAST-MODIFIED:20220419T205256Z
UID:5240-1652464800-1652475600@integrallearningsolutions.com
SUMMARY:Programa de Liderazgo e Influencia 
DESCRIPTION:Programa de Liderazgo e Influencia\n\n\nEl Programa de Liderazgo e Influencia te permitirá desarrollar el líder que está en usted\, promover competencias para conectarte con las personas y lograr influenciarlas positivamente. Es un programa idóneo para toda persona con especial énfasis a aquellos que se relacionan continuamente con grupos o equipos de trabajo. Basado en los principios fundamentales del liderazgo.\n\n\n➡Inicia el 13 de mayo desde las 6:00 pm a través de ZOOM.\n\n\n⏺Duración: 12 horas contacto\n⏺Modalidad: Híbrido por lo que tendremos reuniones por ZOOM y reuniones y actividades autodirigidas.\n\n\n\n\n➡Inversión: $97 US (precio original $397)\n\n\n\n\nIncluye: Certificado\, Material Educativo\, Hojas de Trabajo\, Material Complementario\, 2 sesiones de coaching de 45 minutos\, Acceso a la Academia Virtual 24/7 y por hasta 4 meses una vez concluya el taller.\n\n\n\nRegistro en:https://forms.gle/wYR3svkvYEbnqTxZ9\n\n➡Métodos de pago:\n\nTarjeta de Crédito en https://buy.stripe.com/aEU16ueq5epQ2n6eVr\n ATH Móvil a través del 939-224-8318\n\n\nDescubre más eventos en: https://integrallearningsolutions.com/calendario/ \n\n¡NO TE QUEDES FUERA! APROVECHA ESTA OPORTUNIDAD DE DESARROLLAR LAS HABILIDADES QUE TE GUIARÁN AL ÉXITO PROFESIONAL.\n\n\n#ILSPR #LIDERAZGO #INFLUENCIA #LIDERAZGOEINFLUENCIA
URL:https://integrallearningsolutions.com/evento/programa-de-liderazgo-e-influencia/
LOCATION:Virtual-ZOOM\, WhatsApp Business 939-224-8318\, PR\, Puerto Rico
ATTACH;FMTTYPE=image/png:https://integrallearningsolutions.com/wp-content/uploads/Pink-Abstract-List-of-Questions-Checklist-Instagram-Post-1.png
ORGANIZER;CN="Integral Learning Solutions":MAILTO:integrallearningsolutions.info@ilspr.org
END:VEVENT
END:VCALENDAR