BEGIN:VCALENDAR
VERSION:2.0
PRODID:-//Integral Learning Solutions - ECPv6.15.20//NONSGML v1.0//EN
CALSCALE:GREGORIAN
METHOD:PUBLISH
X-WR-CALNAME:Integral Learning Solutions
X-ORIGINAL-URL:https://integrallearningsolutions.com
X-WR-CALDESC:Eventos para Integral Learning Solutions
REFRESH-INTERVAL;VALUE=DURATION:PT1H
X-Robots-Tag:noindex
X-PUBLISHED-TTL:PT1H
BEGIN:VTIMEZONE
TZID:America/Puerto_Rico
BEGIN:STANDARD
TZOFFSETFROM:-0400
TZOFFSETTO:-0400
TZNAME:AST
DTSTART:20210101T000000
END:STANDARD
END:VTIMEZONE
BEGIN:VEVENT
DTSTART;TZID=America/Puerto_Rico:20220312T083000
DTEND;TZID=America/Puerto_Rico:20220312T123000
DTSTAMP:20260421T183855
CREATED:20220116T213507Z
LAST-MODIFIED:20220116T213507Z
UID:4759-1647073800-1647088200@integrallearningsolutions.com
SUMMARY:Lo que un trabajador social debe conocer para una intervención y manejo efectivo del comportamiento
DESCRIPTION:TRABAJADOR SOCIAL: Lo que un trabajador social debe conocer para una intervención y manejo efectivo del comportamiento\n\nDictado por la Profa. Yolanda Massa\, MSW\n\nIncluye Certificado – 6 hrs Contacto (4 hrs. vía ZOOM y 2 hrs. Autodirigido)\nFecha: 12 de marzo de 2022– Horario 8:30 am Vía ZOOM\n\nInversión $40\nRegístrate en: https://forms.gle/wFmXKtbEE6v11GX76\nPaga por ATH Móvil al 939-224-8318 o Tarjeta de Crédito en https://buy.stripe.com/bIY2ay1Dj1D42n64gr
URL:https://integrallearningsolutions.com/evento/lo-que-un-trabajador-social-debe-conocer-para-una-intervencion-y-manejo-efectivo-del-comportamiento/
LOCATION:Virtual-ZOOM\, WhatsApp Business 939-224-8318\, PR\, Puerto Rico
CATEGORIES:Trabajo Social
ATTACH;FMTTYPE=image/png:https://integrallearningsolutions.com/wp-content/uploads/4.png
ORGANIZER;CN="Integral Learning Solutions":MAILTO:integrallearningsolutions.info@ilspr.org
END:VEVENT
BEGIN:VEVENT
DTSTART;TZID=America/Puerto_Rico:20220312T183000
DTEND;TZID=America/Puerto_Rico:20220312T183000
DTSTAMP:20260421T183855
CREATED:20220221T021914Z
LAST-MODIFIED:20220221T022012Z
UID:4961-1647109800-1647109800@integrallearningsolutions.com
SUMMARY:Descubriendo el Design Thinking
DESCRIPTION:Taller Descubriendo el Design Thinking\nEn este taller tendrás un acercamiento teórico-practico al Design Thinking. Se espera que los participantes conozcan sus bases\, fases y herramientas para su aplicación.  ¿Te consideras una persona creativa? ¡Esto te encantará! ¿Conoce qué es Design Thinking? Aprende cómo esta metodología llamada Desing Thinking puede ayudarte en la creación de nuevos servicios\, productos y en la búsqueda de soluciones creativas para los problemas de tu organización o proyecto profesional.\n 12 de marzo – Vía ZOOM 6:30 PM\nMatricúlate en https://forms.gle/uTjZk5PFsCwx8HB86\nInversión: $25\nMétodos de Pago: ATH Móvil 939-224-8318\nTarjeta de Crédito en \nhttps://buy.stripe.com/dR65mK0zf6Xo1j228B\n\n\n#ilspr
URL:https://integrallearningsolutions.com/evento/descubriendo-el-design-thinking/
LOCATION:Virtual-ZOOM\, WhatsApp Business 939-224-8318\, PR\, Puerto Rico
ATTACH;FMTTYPE=image/jpeg:https://integrallearningsolutions.com/wp-content/uploads/Beige-SWOT-Analysis-Infographic-Graph-4.jpg
ORGANIZER;CN="Integral Learning Solutions":MAILTO:integrallearningsolutions.info@ilspr.org
END:VEVENT
END:VCALENDAR